BEGIN:VCALENDAR
VERSION:2.0
PRODID:-//https://sdomingos.com.br/site///NONSGML kigkonsult.se iCalcreator 2.10.15//
METHOD:PUBLISH
BEGIN:VEVENT
UID:20260425T012348UTC-60763VspEi@https://sdomingos.com.br/site/
DTSTAMP:20260425T012348Z
DESCRIPTION: https://sdomingos.com.br/site/index.php/component/rseventspro/
 evento/9-recesso-escolar?Itemid=101
DTSTART;VALUE=DATE:20221114
LOCATION:Colégio São Domingos (Rua Monte Alegre\, 1083 - Perdizes - São Pau
 lo - SP)
SUMMARY:Recesso Escolar
URL:https://sdomingos.com.br/site/index.php/component/rseventspro/evento/9-
 recesso-escolar?Itemid=101
END:VEVENT
END:VCALENDAR
