BEGIN:VCALENDAR
VERSION:2.0
PRODID:-//https://sdomingos.com.br/site///NONSGML kigkonsult.se iCalcreator 2.10.15//
METHOD:PUBLISH
BEGIN:VEVENT
UID:20260423T155920UTC-8819kV7s2u@https://sdomingos.com.br/site/
DTSTAMP:20260423T155920Z
DESCRIPTION: https://sdomingos.com.br/site/index.php/component/rseventspro/
 evento/88-consciencia-negra?Itemid=101
DTSTART;VALUE=DATE:20241120
LOCATION:Colégio São Domingos (Rua Monte Alegre\, 1083 - Perdizes - São Pau
 lo - SP)
SUMMARY:Consciência Negra
URL:https://sdomingos.com.br/site/index.php/component/rseventspro/evento/88
 -consciencia-negra?Itemid=101
END:VEVENT
END:VCALENDAR
