BEGIN:VCALENDAR
VERSION:2.0
PRODID:-//https://sdomingos.com.br/site///NONSGML kigkonsult.se iCalcreator 2.10.15//
METHOD:PUBLISH
BEGIN:VEVENT
UID:20260423T172147UTC-3500ECKuis@https://sdomingos.com.br/site/
DTSTAMP:20260423T172147Z
DESCRIPTION: https://sdomingos.com.br/site/index.php/component/rseventspro/
 evento/87-proclamacao-da-republica?Itemid=101
DTSTART;VALUE=DATE:20241115
LOCATION:Colégio São Domingos (Rua Monte Alegre\, 1083 - Perdizes - São Pau
 lo - SP)
SUMMARY:Proclamação da República
URL:https://sdomingos.com.br/site/index.php/component/rseventspro/evento/87
 -proclamacao-da-republica?Itemid=101
END:VEVENT
END:VCALENDAR
