BEGIN:VCALENDAR
VERSION:2.0
PRODID:-//https://sdomingos.com.br/site///NONSGML kigkonsult.se iCalcreator 2.10.15//
METHOD:PUBLISH
BEGIN:VEVENT
UID:20260423T184832UTC-8147mlVj4b@https://sdomingos.com.br/site/
DTSTAMP:20260423T184832Z
DESCRIPTION: https://sdomingos.com.br/site/index.php/component/rseventspro/
 evento/84-dia-dos-professores?Itemid=101
DTSTART;VALUE=DATE:20241014
LOCATION:Colégio São Domingos (Rua Monte Alegre\, 1083 - Perdizes - São Pau
 lo - SP)
SUMMARY:Dia dos Professores 
URL:https://sdomingos.com.br/site/index.php/component/rseventspro/evento/84
 -dia-dos-professores?Itemid=101
END:VEVENT
END:VCALENDAR
