BEGIN:VCALENDAR
VERSION:2.0
PRODID:-//https://sdomingos.com.br/site///NONSGML kigkonsult.se iCalcreator 2.10.15//
METHOD:PUBLISH
BEGIN:VEVENT
UID:20260424T015121UTC-0401JEiKUr@https://sdomingos.com.br/site/
DTSTAMP:20260424T015121Z
DESCRIPTION: https://sdomingos.com.br/site/index.php/component/rseventspro/
 evento/75-dia-do-trabalho?Itemid=101
DTSTART;VALUE=DATE:20240501
LOCATION:Colégio São Domingos (Rua Monte Alegre\, 1083 - Perdizes - São Pau
 lo - SP)
SUMMARY:Dia do Trabalho
URL:https://sdomingos.com.br/site/index.php/component/rseventspro/evento/75
 -dia-do-trabalho?Itemid=101
END:VEVENT
END:VCALENDAR
