BEGIN:VCALENDAR
VERSION:2.0
PRODID:-//https://sdomingos.com.br/site///NONSGML kigkonsult.se iCalcreator 2.10.15//
METHOD:PUBLISH
BEGIN:VEVENT
UID:20260424T043156UTC-8543ZxV6Nb@https://sdomingos.com.br/site/
DTSTAMP:20260424T043156Z
DESCRIPTION: https://sdomingos.com.br/site/index.php/component/rseventspro/
 evento/72-pascoa?Itemid=101
DTSTART;VALUE=DATE:20240331
LOCATION:Colégio São Domingos (Rua Monte Alegre\, 1083 - Perdizes - São Pau
 lo - SP)
SUMMARY:Páscoa
URL:https://sdomingos.com.br/site/index.php/component/rseventspro/evento/72
 -pascoa?Itemid=101
END:VEVENT
END:VCALENDAR
