BEGIN:VCALENDAR
VERSION:2.0
PRODID:-//https://sdomingos.com.br/site///NONSGML kigkonsult.se iCalcreator 2.10.15//
METHOD:PUBLISH
BEGIN:VEVENT
UID:20260424T043302UTC-4268Cbnzrb@https://sdomingos.com.br/site/
DTSTAMP:20260424T043302Z
DESCRIPTION: https://sdomingos.com.br/site/index.php/component/rseventspro/
 evento/71-sexta-feira-santa?Itemid=101
DTSTART;VALUE=DATE:20240329
LOCATION:Colégio São Domingos (Rua Monte Alegre\, 1083 - Perdizes - São Pau
 lo - SP)
SUMMARY:Sexta Feira Santa
URL:https://sdomingos.com.br/site/index.php/component/rseventspro/evento/71
 -sexta-feira-santa?Itemid=101
END:VEVENT
END:VCALENDAR
