BEGIN:VCALENDAR
VERSION:2.0
PRODID:-//https://sdomingos.com.br/site///NONSGML kigkonsult.se iCalcreator 2.10.15//
METHOD:PUBLISH
BEGIN:VEVENT
UID:20260424T093016UTC-0874aj0zvU@https://sdomingos.com.br/site/
DTSTAMP:20260424T093016Z
DESCRIPTION: https://sdomingos.com.br/site/index.php/component/rseventspro/
 evento/49-finados?Itemid=101
DTSTART;VALUE=DATE:20231102
LOCATION:Colégio São Domingos (Rua Monte Alegre\, 1083 - Perdizes - São Pau
 lo - SP)
SUMMARY:Finados
URL:https://sdomingos.com.br/site/index.php/component/rseventspro/evento/49
 -finados?Itemid=101
END:VEVENT
END:VCALENDAR
