BEGIN:VCALENDAR
VERSION:2.0
PRODID:-//https://sdomingos.com.br/site///NONSGML kigkonsult.se iCalcreator 2.10.15//
METHOD:PUBLISH
BEGIN:VEVENT
UID:20260424T105919UTC-0229Bn1TrS@https://sdomingos.com.br/site/
DTSTAMP:20260424T105919Z
DESCRIPTION: https://sdomingos.com.br/site/index.php/component/rseventspro/
 evento/45-nossa-senhora-aparecida?Itemid=101
DTSTART;VALUE=DATE:20231012
LOCATION:Colégio São Domingos (Rua Monte Alegre\, 1083 - Perdizes - São Pau
 lo - SP)
SUMMARY:Nossa Senhora Aparecida
URL:https://sdomingos.com.br/site/index.php/component/rseventspro/evento/45
 -nossa-senhora-aparecida?Itemid=101
END:VEVENT
END:VCALENDAR
