BEGIN:VCALENDAR
VERSION:2.0
PRODID:-//https://sdomingos.com.br/site///NONSGML kigkonsult.se iCalcreator 2.10.15//
METHOD:PUBLISH
BEGIN:VEVENT
UID:20260424T122609UTC-1831fUTVu0@https://sdomingos.com.br/site/
DTSTAMP:20260424T122609Z
DESCRIPTION: https://sdomingos.com.br/site/index.php/component/rseventspro/
 evento/44-dia-da-sustentabilidade?Itemid=101
DTSTART;VALUE=DATE:20230923
LOCATION:Colégio São Domingos (Rua Monte Alegre\, 1083 - Perdizes - São Pau
 lo - SP)
SUMMARY:Dia da Sustentabilidade
URL:https://sdomingos.com.br/site/index.php/component/rseventspro/evento/44
 -dia-da-sustentabilidade?Itemid=101
END:VEVENT
END:VCALENDAR
