BEGIN:VCALENDAR
VERSION:2.0
PRODID:-//https://sdomingos.com.br/site///NONSGML kigkonsult.se iCalcreator 2.10.15//
METHOD:PUBLISH
BEGIN:VEVENT
UID:20260424T121504UTC-6599u2xoUl@https://sdomingos.com.br/site/
DTSTAMP:20260424T121504Z
DESCRIPTION: https://sdomingos.com.br/site/index.php/component/rseventspro/
 evento/43-recesso?Itemid=101
DTSTART;VALUE=DATE:20230908
LOCATION:Colégio São Domingos (Rua Monte Alegre\, 1083 - Perdizes - São Pau
 lo - SP)
SUMMARY:Recesso
URL:https://sdomingos.com.br/site/index.php/component/rseventspro/evento/43
 -recesso?Itemid=101
END:VEVENT
END:VCALENDAR
