BEGIN:VCALENDAR
VERSION:2.0
PRODID:-//https://sdomingos.com.br/site///NONSGML kigkonsult.se iCalcreator 2.10.15//
METHOD:PUBLISH
BEGIN:VEVENT
UID:20260424T122319UTC-0950sPXxHr@https://sdomingos.com.br/site/
DTSTAMP:20260424T122319Z
DESCRIPTION: https://sdomingos.com.br/site/index.php/component/rseventspro/
 evento/42-independencia-do-brasil?Itemid=101
DTSTART;VALUE=DATE:20230907
LOCATION:Colégio São Domingos (Rua Monte Alegre\, 1083 - Perdizes - São Pau
 lo - SP)
SUMMARY:Independência do Brasil
URL:https://sdomingos.com.br/site/index.php/component/rseventspro/evento/42
 -independencia-do-brasil?Itemid=101
END:VEVENT
END:VCALENDAR
