BEGIN:VCALENDAR
VERSION:2.0
PRODID:-//https://sdomingos.com.br/site///NONSGML kigkonsult.se iCalcreator 2.10.15//
METHOD:PUBLISH
BEGIN:VEVENT
UID:20260424T152147UTC-324611Nf8t@https://sdomingos.com.br/site/
DTSTAMP:20260424T152147Z
DESCRIPTION: https://sdomingos.com.br/site/index.php/component/rseventspro/
 evento/38-inicio-das-ferias?Itemid=101
DTSTART;VALUE=DATE:20230628
LOCATION:Colégio São Domingos (Rua Monte Alegre\, 1083 - Perdizes - São Pau
 lo - SP)
SUMMARY:Inicio das férias
URL:https://sdomingos.com.br/site/index.php/component/rseventspro/evento/38
 -inicio-das-ferias?Itemid=101
END:VEVENT
END:VCALENDAR
