BEGIN:VCALENDAR
VERSION:2.0
PRODID:-//https://sdomingos.com.br/site///NONSGML kigkonsult.se iCalcreator 2.10.15//
METHOD:PUBLISH
BEGIN:VEVENT
UID:20260424T151402UTC-1968K73zcJ@https://sdomingos.com.br/site/
DTSTAMP:20260424T151402Z
DESCRIPTION: https://sdomingos.com.br/site/index.php/component/rseventspro/
 evento/37-ultimo-dia-de-aula-do-1-semestre?Itemid=101
DTSTART;VALUE=DATE:20230627
LOCATION:Colégio São Domingos (Rua Monte Alegre\, 1083 - Perdizes - São Pau
 lo - SP)
SUMMARY:Último dia de aula do 1º semestre
URL:https://sdomingos.com.br/site/index.php/component/rseventspro/evento/37
 -ultimo-dia-de-aula-do-1-semestre?Itemid=101
END:VEVENT
END:VCALENDAR
