BEGIN:VCALENDAR
VERSION:2.0
PRODID:-//https://sdomingos.com.br/site///NONSGML kigkonsult.se iCalcreator 2.10.15//
METHOD:PUBLISH
BEGIN:VEVENT
UID:20260424T161510UTC-8180XUS0xA@https://sdomingos.com.br/site/
DTSTAMP:20260424T161510Z
DESCRIPTION: https://sdomingos.com.br/site/index.php/component/rseventspro/
 evento/34-corpus-christ?Itemid=101
DTSTART;VALUE=DATE:20230608
LOCATION:Colégio São Domingos (Rua Monte Alegre\, 1083 - Perdizes - São Pau
 lo - SP)
SUMMARY:Corpus Christ
URL:https://sdomingos.com.br/site/index.php/component/rseventspro/evento/34
 -corpus-christ?Itemid=101
END:VEVENT
END:VCALENDAR
