BEGIN:VCALENDAR
VERSION:2.0
PRODID:-//https://sdomingos.com.br/site///NONSGML kigkonsult.se iCalcreator 2.10.15//
METHOD:PUBLISH
BEGIN:VEVENT
UID:20260424T174318UTC-5217bT6wr7@https://sdomingos.com.br/site/
DTSTAMP:20260424T174318Z
DESCRIPTION: https://sdomingos.com.br/site/index.php/component/rseventspro/
 evento/33-atividades-integrativas?Itemid=101
DTSTART;VALUE=DATE:20230520
LOCATION:Colégio São Domingos (Rua Monte Alegre\, 1083 - Perdizes - São Pau
 lo - SP)
SUMMARY:Atividades Integrativas
URL:https://sdomingos.com.br/site/index.php/component/rseventspro/evento/33
 -atividades-integrativas?Itemid=101
END:VEVENT
END:VCALENDAR
