BEGIN:VCALENDAR
VERSION:2.0
PRODID:-//https://sdomingos.com.br/site///NONSGML kigkonsult.se iCalcreator 2.10.15//
METHOD:PUBLISH
BEGIN:VEVENT
UID:20260424T213649UTC-3204i8JOUZ@https://sdomingos.com.br/site/
DTSTAMP:20260424T213649Z
DESCRIPTION: https://sdomingos.com.br/site/index.php/component/rseventspro/
 evento/28-recesso-4-feira-de-cinzas?Itemid=101
DTSTART;VALUE=DATE:20230222
LOCATION:Colégio São Domingos (Rua Monte Alegre\, 1083 - Perdizes - São Pau
 lo - SP)
SUMMARY:Recesso - 4ª feira de cinzas
URL:https://sdomingos.com.br/site/index.php/component/rseventspro/evento/28
 -recesso-4-feira-de-cinzas?Itemid=101
END:VEVENT
END:VCALENDAR
