BEGIN:VCALENDAR
VERSION:2.0
PRODID:-//https://sdomingos.com.br/site///NONSGML kigkonsult.se iCalcreator 2.10.15//
METHOD:PUBLISH
BEGIN:VEVENT
UID:20260424T213531UTC-2922tEGAa7@https://sdomingos.com.br/site/
DTSTAMP:20260424T213531Z
DESCRIPTION: https://sdomingos.com.br/site/index.php/component/rseventspro/
 evento/23-planejamento-dos-professores?Itemid=101
DTSTART:20230126T030000Z
DTEND:20230131T200000Z
LOCATION:Colégio São Domingos (Rua Monte Alegre\, 1083 - Perdizes - São Pau
 lo - SP)
SUMMARY:Planejamento dos professores
URL:https://sdomingos.com.br/site/index.php/component/rseventspro/evento/23
 -planejamento-dos-professores?Itemid=101
END:VEVENT
END:VCALENDAR
