BEGIN:VCALENDAR
VERSION:2.0
PRODID:-//https://sdomingos.com.br/site///NONSGML kigkonsult.se iCalcreator 2.10.15//
METHOD:PUBLISH
BEGIN:VEVENT
UID:20260424T174217UTC-2471kFlCw4@https://sdomingos.com.br/site/
DTSTAMP:20260424T174217Z
DESCRIPTION: https://sdomingos.com.br/site/index.php/component/rseventspro/
 evento/19-dia-do-trabalho?Itemid=101
DTSTART;VALUE=DATE:20230501
LOCATION:Colégio São Domingos (Rua Monte Alegre\, 1083 - Perdizes - São Pau
 lo - SP)
SUMMARY:Dia do Trabalho
URL:https://sdomingos.com.br/site/index.php/component/rseventspro/evento/19
 -dia-do-trabalho?Itemid=101
END:VEVENT
END:VCALENDAR
