BEGIN:VCALENDAR
VERSION:2.0
PRODID:-//https://sdomingos.com.br/site///NONSGML kigkonsult.se iCalcreator 2.10.15//
METHOD:PUBLISH
BEGIN:VEVENT
UID:20260424T191340UTC-04491Na8Uu@https://sdomingos.com.br/site/
DTSTAMP:20260424T191340Z
DESCRIPTION: https://sdomingos.com.br/site/index.php/component/rseventspro/
 evento/18-dia-de-tiradentes?Itemid=101
DTSTART;VALUE=DATE:20230421
LOCATION:Colégio São Domingos (Rua Monte Alegre\, 1083 - Perdizes - São Pau
 lo - SP)
SUMMARY:Dia de Tiradentes
URL:https://sdomingos.com.br/site/index.php/component/rseventspro/evento/18
 -dia-de-tiradentes?Itemid=101
END:VEVENT
END:VCALENDAR
