BEGIN:VCALENDAR
VERSION:2.0
PRODID:-//https://sdomingos.com.br/site///NONSGML kigkonsult.se iCalcreator 2.10.15//
METHOD:PUBLISH
BEGIN:VEVENT
UID:20260425T000917UTC-0298DuOEIi@https://sdomingos.com.br/site/
DTSTAMP:20260425T000917Z
DESCRIPTION: https://sdomingos.com.br/site/index.php/component/rseventspro/
 evento/14-ultimo-dia-de-aula?Itemid=101
DTSTART;VALUE=DATE:20221220
LOCATION:Colégio São Domingos (Rua Monte Alegre\, 1083 - Perdizes - São Pau
 lo - SP)
SUMMARY:Último dia de aula
URL:https://sdomingos.com.br/site/index.php/component/rseventspro/evento/14
 -ultimo-dia-de-aula?Itemid=101
END:VEVENT
END:VCALENDAR
