BEGIN:VCALENDAR
VERSION:2.0
PRODID:-//https://sdomingos.com.br/site///NONSGML kigkonsult.se iCalcreator 2.10.15//
METHOD:PUBLISH
BEGIN:VEVENT
UID:20260423T131127UTC-8521X69u6u@https://sdomingos.com.br/site/
DTSTAMP:20260423T131127Z
DESCRIPTION: https://sdomingos.com.br/site/index.php/component/rseventspro/
 evento/104-planejamento-pedagogico?Itemid=101
DTSTART:20250130T121000Z
DTEND:20250130T141000Z
LOCATION:Colégio São Domingos (Rua Monte Alegre\, 1083 - Perdizes - São Pau
 lo - SP)
SUMMARY:Planejamento Pedagógico
URL:https://sdomingos.com.br/site/index.php/component/rseventspro/evento/10
 4-planejamento-pedagogico?Itemid=101
END:VEVENT
END:VCALENDAR
