BEGIN:VCALENDAR
VERSION:2.0
PRODID:-//https://sdomingos.com.br/site///NONSGML kigkonsult.se iCalcreator 2.10.15//
METHOD:PUBLISH
BEGIN:VEVENT
UID:20260423T131127UTC-9929rXuvc3@https://sdomingos.com.br/site/
DTSTAMP:20260423T131127Z
DESCRIPTION: https://sdomingos.com.br/site/index.php/component/rseventspro/
 evento/103-planejamento-pedagogico?Itemid=101
DTSTART;VALUE=DATE:20250129
LOCATION:Colégio São Domingos (Rua Monte Alegre\, 1083 - Perdizes - São Pau
 lo - SP)
SUMMARY:Planejamento Pedagógico
URL:https://sdomingos.com.br/site/index.php/component/rseventspro/evento/10
 3-planejamento-pedagogico?Itemid=101
END:VEVENT
END:VCALENDAR
