BEGIN:VCALENDAR
VERSION:2.0
PRODID:-//https://sdomingos.com.br/site///NONSGML kigkonsult.se iCalcreator 2.10.15//
METHOD:PUBLISH
BEGIN:VEVENT
UID:20260423T102333UTC-4769ppOHev@https://sdomingos.com.br/site/
DTSTAMP:20260423T102333Z
DESCRIPTION: https://sdomingos.com.br/site/index.php/calendario/evento/182-
 natal
DTSTART;VALUE=DATE:20261225
LOCATION:Colégio São Domingos (Rua Monte Alegre\, 1083 - Perdizes - São Pau
 lo - SP)
SUMMARY:Natal
URL:https://sdomingos.com.br/site/index.php/calendario/evento/182-natal
END:VEVENT
END:VCALENDAR
