BEGIN:VCALENDAR
VERSION:2.0
PRODID:-//https://sdomingos.com.br/site///NONSGML kigkonsult.se iCalcreator 2.10.15//
METHOD:PUBLISH
BEGIN:VEVENT
UID:20260423T092726UTC-9026MMmERj@https://sdomingos.com.br/site/
DTSTAMP:20260423T092726Z
DESCRIPTION: https://sdomingos.com.br/site/index.php/calendario/evento/181-
 consciencia-negra
DTSTART;VALUE=DATE:20261120
LOCATION:Colégio São Domingos (Rua Monte Alegre\, 1083 - Perdizes - São Pau
 lo - SP)
SUMMARY:Consciência Negra
URL:https://sdomingos.com.br/site/index.php/calendario/evento/181-conscienc
 ia-negra
END:VEVENT
END:VCALENDAR
