BEGIN:VCALENDAR
VERSION:2.0
PRODID:-//https://sdomingos.com.br/site///NONSGML kigkonsult.se iCalcreator 2.10.15//
METHOD:PUBLISH
BEGIN:VEVENT
UID:20260423T092033UTC-7038ufhR11@https://sdomingos.com.br/site/
DTSTAMP:20260423T092033Z
DESCRIPTION: https://sdomingos.com.br/site/index.php/calendario/evento/180-
 proclamacao-da-republica
DTSTART;VALUE=DATE:20261115
LOCATION:Colégio São Domingos (Rua Monte Alegre\, 1083 - Perdizes - São Pau
 lo - SP)
SUMMARY:Proclamação da República
URL:https://sdomingos.com.br/site/index.php/calendario/evento/180-proclamac
 ao-da-republica
END:VEVENT
END:VCALENDAR
