BEGIN:VCALENDAR
VERSION:2.0
PRODID:-//https://sdomingos.com.br/site///NONSGML kigkonsult.se iCalcreator 2.10.15//
METHOD:PUBLISH
BEGIN:VEVENT
UID:20260423T091816UTC-8568KF5aM7@https://sdomingos.com.br/site/
DTSTAMP:20260423T091816Z
DESCRIPTION: https://sdomingos.com.br/site/index.php/calendario/evento/179-
 finados
DTSTART;VALUE=DATE:20261102
LOCATION:Colégio São Domingos (Rua Monte Alegre\, 1083 - Perdizes - São Pau
 lo - SP)
SUMMARY:Finados
URL:https://sdomingos.com.br/site/index.php/calendario/evento/179-finados
END:VEVENT
END:VCALENDAR
