BEGIN:VCALENDAR
VERSION:2.0
PRODID:-//https://sdomingos.com.br/site///NONSGML kigkonsult.se iCalcreator 2.10.15//
METHOD:PUBLISH
BEGIN:VEVENT
UID:20260423T092028UTC-5389lHh8n6@https://sdomingos.com.br/site/
DTSTAMP:20260423T092028Z
DESCRIPTION: https://sdomingos.com.br/site/index.php/calendario/evento/178-
 nossa-senhora-aparecida
DTSTART;VALUE=DATE:20261012
LOCATION:Colégio São Domingos (Rua Monte Alegre\, 1083 - Perdizes - São Pau
 lo - SP)
SUMMARY:Nossa Senhora Aparecida
URL:https://sdomingos.com.br/site/index.php/calendario/evento/178-nossa-sen
 hora-aparecida
END:VEVENT
END:VCALENDAR
