BEGIN:VCALENDAR
VERSION:2.0
PRODID:-//https://sdomingos.com.br/site///NONSGML kigkonsult.se iCalcreator 2.10.15//
METHOD:PUBLISH
BEGIN:VEVENT
UID:20260423T091941UTC-55030arBUI@https://sdomingos.com.br/site/
DTSTAMP:20260423T091941Z
DESCRIPTION: https://sdomingos.com.br/site/index.php/calendario/evento/177-
 independencia-do-brasil
DTSTART;VALUE=DATE:20260907
LOCATION:Colégio São Domingos (Rua Monte Alegre\, 1083 - Perdizes - São Pau
 lo - SP)
SUMMARY:Independência do Brasil
URL:https://sdomingos.com.br/site/index.php/calendario/evento/177-independe
 ncia-do-brasil
END:VEVENT
END:VCALENDAR
