BEGIN:VCALENDAR
VERSION:2.0
PRODID:-//https://sdomingos.com.br/site///NONSGML kigkonsult.se iCalcreator 2.10.15//
METHOD:PUBLISH
BEGIN:VEVENT
UID:20260423T091807UTC-5884K0LuE3@https://sdomingos.com.br/site/
DTSTAMP:20260423T091807Z
DESCRIPTION: https://sdomingos.com.br/site/index.php/calendario/evento/173-
 dia-do-trabalho
DTSTART;VALUE=DATE:20260501
LOCATION:Colégio São Domingos (Rua Monte Alegre\, 1083 - Perdizes - São Pau
 lo - SP)
SUMMARY:Dia do Trabalho
URL:https://sdomingos.com.br/site/index.php/calendario/evento/173-dia-do-tr
 abalho
END:VEVENT
END:VCALENDAR
