BEGIN:VCALENDAR
VERSION:2.0
PRODID:-//https://sdomingos.com.br/site///NONSGML kigkonsult.se iCalcreator 2.10.15//
METHOD:PUBLISH
BEGIN:VEVENT
UID:20260423T091907UTC-3076sFs2wN@https://sdomingos.com.br/site/
DTSTAMP:20260423T091907Z
DESCRIPTION: https://sdomingos.com.br/site/index.php/calendario/evento/172-
 tiradentes
DTSTART;VALUE=DATE:20260421
LOCATION:Colégio São Domingos (Rua Monte Alegre\, 1083 - Perdizes - São Pau
 lo - SP)
SUMMARY:Tiradentes
URL:https://sdomingos.com.br/site/index.php/calendario/evento/172-tiradente
 s
END:VEVENT
END:VCALENDAR
