BEGIN:VCALENDAR
VERSION:2.0
PRODID:-//https://sdomingos.com.br/site///NONSGML kigkonsult.se iCalcreator 2.10.15//
METHOD:PUBLISH
BEGIN:VEVENT
UID:20260423T091807UTC-4440IvD4wL@https://sdomingos.com.br/site/
DTSTAMP:20260423T091807Z
DESCRIPTION: https://sdomingos.com.br/site/index.php/calendario/evento/171-
 recesso
DTSTART;VALUE=DATE:20260420
LOCATION:Colégio São Domingos (Rua Monte Alegre\, 1083 - Perdizes - São Pau
 lo - SP)
SUMMARY:Recesso
URL:https://sdomingos.com.br/site/index.php/calendario/evento/171-recesso
END:VEVENT
END:VCALENDAR
