BEGIN:VCALENDAR
VERSION:2.0
PRODID:-//https://sdomingos.com.br/site///NONSGML kigkonsult.se iCalcreator 2.10.15//
METHOD:PUBLISH
BEGIN:VEVENT
UID:20260423T092125UTC-8448UHNiIO@https://sdomingos.com.br/site/
DTSTAMP:20260423T092125Z
DESCRIPTION: https://sdomingos.com.br/site/index.php/calendario/evento/165-
 inicio-segundo-semestre
DTSTART;VALUE=DATE:20260803
LOCATION:Colégio São Domingos (Rua Monte Alegre\, 1083 - Perdizes - São Pau
 lo - SP)
SUMMARY:Início Segundo Semestre
URL:https://sdomingos.com.br/site/index.php/calendario/evento/165-inicio-se
 gundo-semestre
END:VEVENT
END:VCALENDAR
