BEGIN:VCALENDAR
VERSION:2.0
PRODID:-//https://sdomingos.com.br/site///NONSGML kigkonsult.se iCalcreator 2.10.15//
METHOD:PUBLISH
BEGIN:VEVENT
UID:20260423T093646UTC-0740zmHKZT@https://sdomingos.com.br/site/
DTSTAMP:20260423T093646Z
DESCRIPTION: https://sdomingos.com.br/site/index.php/calendario/evento/164-
 inicio-ferias-escolares
DTSTART;VALUE=DATE:20260701
LOCATION:Colégio São Domingos (Rua Monte Alegre\, 1083 - Perdizes - São Pau
 lo - SP)
SUMMARY:Início Férias Escolares
URL:https://sdomingos.com.br/site/index.php/calendario/evento/164-inicio-fe
 rias-escolares
END:VEVENT
END:VCALENDAR
