BEGIN:VCALENDAR
VERSION:2.0
PRODID:-//https://sdomingos.com.br/site///NONSGML kigkonsult.se iCalcreator 2.10.15//
METHOD:PUBLISH
BEGIN:VEVENT
UID:20260423T103342UTC-7361ewGiDv@https://sdomingos.com.br/site/
DTSTAMP:20260423T103342Z
DESCRIPTION: https://sdomingos.com.br/site/index.php/calendario/evento/159-
 planejamento-pedagogico
DTSTART;VALUE=DATE:20261217
LOCATION:Colégio São Domingos (Rua Monte Alegre\, 1083 - Perdizes - São Pau
 lo - SP)
SUMMARY:Planejamento Pedagógico
URL:https://sdomingos.com.br/site/index.php/calendario/evento/159-planejame
 nto-pedagogico
END:VEVENT
END:VCALENDAR
