BEGIN:VCALENDAR
VERSION:2.0
PRODID:-//https://sdomingos.com.br/site///NONSGML kigkonsult.se iCalcreator 2.10.15//
METHOD:PUBLISH
BEGIN:VEVENT
UID:20260423T092157UTC-1368lkhRU1@https://sdomingos.com.br/site/
DTSTAMP:20260423T092157Z
DESCRIPTION: https://sdomingos.com.br/site/index.php/calendario/evento/157-
 planejamento-pedagogico
DTSTART;VALUE=DATE:20260731
LOCATION:Colégio São Domingos (Rua Monte Alegre\, 1083 - Perdizes - São Pau
 lo - SP)
SUMMARY:Planejamento Pedagógico
URL:https://sdomingos.com.br/site/index.php/calendario/evento/157-planejame
 nto-pedagogico
END:VEVENT
END:VCALENDAR
