BEGIN:VCALENDAR
VERSION:2.0
PRODID:-//https://sdomingos.com.br/site///NONSGML kigkonsult.se iCalcreator 2.10.15//
METHOD:PUBLISH
BEGIN:VEVENT
UID:20260423T102923UTC-9768NJNUcs@https://sdomingos.com.br/site/
DTSTAMP:20260423T102923Z
DESCRIPTION: https://sdomingos.com.br/site/index.php/calendario/evento/156-
 sustentabilidade-su
DTSTART;VALUE=DATE:20261128
LOCATION:Colégio São Domingos (Rua Monte Alegre\, 1083 - Perdizes - São Pau
 lo - SP)
SUMMARY:Sustentabilidade (SU)
URL:https://sdomingos.com.br/site/index.php/calendario/evento/156-sustentab
 ilidade-su
END:VEVENT
END:VCALENDAR
