BEGIN:VCALENDAR
VERSION:2.0
PRODID:-//https://sdomingos.com.br/site///NONSGML kigkonsult.se iCalcreator 2.10.15//
METHOD:PUBLISH
BEGIN:VEVENT
UID:20260423T092816UTC-1295dfoJuc@https://sdomingos.com.br/site/
DTSTAMP:20260423T092816Z
DESCRIPTION: https://sdomingos.com.br/site/index.php/calendario/evento/154-
 mostra-cultural-pedagogica
DTSTART;VALUE=DATE:20261024
LOCATION:Colégio São Domingos (Rua Monte Alegre\, 1083 - Perdizes - São Pau
 lo - SP)
SUMMARY:Mostra Cultural Pedagógica 
URL:https://sdomingos.com.br/site/index.php/calendario/evento/154-mostra-cu
 ltural-pedagogica
END:VEVENT
END:VCALENDAR
