BEGIN:VCALENDAR
VERSION:2.0
PRODID:-//https://sdomingos.com.br/site///NONSGML kigkonsult.se iCalcreator 2.10.15//
METHOD:PUBLISH
BEGIN:VEVENT
UID:20260423T091747UTC-2603hsxfr0@https://sdomingos.com.br/site/
DTSTAMP:20260423T091747Z
DESCRIPTION: https://sdomingos.com.br/site/index.php/calendario/evento/153-
 simulacao-sim
DTSTART;VALUE=DATE:20260919
LOCATION:Colégio São Domingos (Rua Monte Alegre\, 1083 - Perdizes - São Pau
 lo - SP)
SUMMARY:Simulação (SIM)
URL:https://sdomingos.com.br/site/index.php/calendario/evento/153-simulacao
 -sim
END:VEVENT
END:VCALENDAR
