BEGIN:VCALENDAR
VERSION:2.0
PRODID:-//https://sdomingos.com.br/site///NONSGML kigkonsult.se iCalcreator 2.10.15//
METHOD:PUBLISH
BEGIN:VEVENT
UID:20260423T092725UTC-9756MZrZPJ@https://sdomingos.com.br/site/
DTSTAMP:20260423T092725Z
DESCRIPTION: https://sdomingos.com.br/site/index.php/calendario/evento/152-
 sabados-sao-domingos-ssd
DTSTART;VALUE=DATE:20260829
LOCATION:Colégio São Domingos (Rua Monte Alegre\, 1083 - Perdizes - São Pau
 lo - SP)
SUMMARY:Sábados São Domingos (SSD)
URL:https://sdomingos.com.br/site/index.php/calendario/evento/152-sabados-s
 ao-domingos-ssd
END:VEVENT
END:VCALENDAR
