BEGIN:VCALENDAR
VERSION:2.0
PRODID:-//https://sdomingos.com.br/site///NONSGML kigkonsult.se iCalcreator 2.10.15//
METHOD:PUBLISH
BEGIN:VEVENT
UID:20260423T092033UTC-5302DMO89b@https://sdomingos.com.br/site/
DTSTAMP:20260423T092033Z
DESCRIPTION: https://sdomingos.com.br/site/index.php/calendario/evento/151-
 festa-junina
DTSTART;VALUE=DATE:20260620
LOCATION:Colégio São Domingos (Rua Monte Alegre\, 1083 - Perdizes - São Pau
 lo - SP)
SUMMARY:Festa Junina
URL:https://sdomingos.com.br/site/index.php/calendario/evento/151-festa-jun
 ina
END:VEVENT
END:VCALENDAR
