BEGIN:VCALENDAR
VERSION:2.0
PRODID:-//https://sdomingos.com.br/site///NONSGML kigkonsult.se iCalcreator 2.10.15//
METHOD:PUBLISH
BEGIN:VEVENT
UID:20260423T100429UTC-0298VlsLai@https://sdomingos.com.br/site/
DTSTAMP:20260423T100429Z
DESCRIPTION: https://sdomingos.com.br/site/index.php/calendario/evento/150-
 projeto-de-educacao-fisica
DTSTART;VALUE=DATE:20260516
LOCATION:Colégio São Domingos (Rua Monte Alegre\, 1083 - Perdizes - São Pau
 lo - SP)
SUMMARY:Projeto de Educação Física
URL:https://sdomingos.com.br/site/index.php/calendario/evento/150-projeto-d
 e-educacao-fisica
END:VEVENT
END:VCALENDAR
